BEGIN:VCALENDAR
VERSION:2.0
PRODID:-//Manx Footpaths Conservation Group - ECPv6.2.9//NONSGML v1.0//EN
CALSCALE:GREGORIAN
METHOD:PUBLISH
X-ORIGINAL-URL:https://manxfootpaths.org
X-WR-CALDESC:Events for Manx Footpaths Conservation Group
REFRESH-INTERVAL;VALUE=DURATION:PT1H
X-Robots-Tag:noindex
X-PUBLISHED-TTL:PT1H
BEGIN:VTIMEZONE
TZID:Europe/London
BEGIN:DAYLIGHT
TZOFFSETFROM:+0000
TZOFFSETTO:+0100
TZNAME:BST
DTSTART:20200329T010000
END:DAYLIGHT
BEGIN:STANDARD
TZOFFSETFROM:+0100
TZOFFSETTO:+0000
TZNAME:GMT
DTSTART:20201025T010000
END:STANDARD
END:VTIMEZONE
BEGIN:VEVENT
DTSTART;TZID=Europe/London:20201217T103000
DTEND;TZID=Europe/London:20201217T103000
DTSTAMP:20260423T111549
CREATED:20201020T201000Z
LAST-MODIFIED:20201022T074755Z
UID:3826-1608201000-1608201000@manxfootpaths.org
SUMMARY:Fleshwick Bay (Peter's House)
DESCRIPTION:Bring a bite
URL:https://manxfootpaths.org/event/fleshwick-bay-peters-house/
LOCATION:SC201709
END:VEVENT
END:VCALENDAR