BEGIN:VCALENDAR
VERSION:2.0
PRODID:-//Manx Footpaths Conservation Group - ECPv6.2.9//NONSGML v1.0//EN
CALSCALE:GREGORIAN
METHOD:PUBLISH
X-WR-CALNAME:Manx Footpaths Conservation Group
X-ORIGINAL-URL:https://manxfootpaths.org
X-WR-CALDESC:Events for Manx Footpaths Conservation Group
REFRESH-INTERVAL;VALUE=DURATION:PT1H
X-Robots-Tag:noindex
X-PUBLISHED-TTL:PT1H
BEGIN:VTIMEZONE
TZID:Europe/London
BEGIN:DAYLIGHT
TZOFFSETFROM:+0000
TZOFFSETTO:+0100
TZNAME:BST
DTSTART:20210328T010000
END:DAYLIGHT
BEGIN:STANDARD
TZOFFSETFROM:+0100
TZOFFSETTO:+0000
TZNAME:GMT
DTSTART:20211031T010000
END:STANDARD
END:VTIMEZONE
BEGIN:VEVENT
DTSTART;TZID=Europe/London:20210102T103000
DTEND;TZID=Europe/London:20210102T103000
DTSTAMP:20260423T111439
CREATED:20201020T201004Z
LAST-MODIFIED:20201205T210344Z
UID:3833-1609583400-1609583400@manxfootpaths.org
SUMMARY:Peel\, Mill Road car park (Near Moore's)
DESCRIPTION:
URL:https://manxfootpaths.org/event/new-starting-point-peel-mill-road-car-park-near-moores/
LOCATION:SC241838
END:VEVENT
END:VCALENDAR