BEGIN:VCALENDAR
VERSION:2.0
PRODID:-//Manx Footpaths Conservation Group - ECPv6.2.9//NONSGML v1.0//EN
CALSCALE:GREGORIAN
METHOD:PUBLISH
X-WR-CALNAME:Manx Footpaths Conservation Group
X-ORIGINAL-URL:https://manxfootpaths.org
X-WR-CALDESC:Events for Manx Footpaths Conservation Group
REFRESH-INTERVAL;VALUE=DURATION:PT1H
X-Robots-Tag:noindex
X-PUBLISHED-TTL:PT1H
BEGIN:VTIMEZONE
TZID:Europe/London
BEGIN:DAYLIGHT
TZOFFSETFROM:+0000
TZOFFSETTO:+0100
TZNAME:BST
DTSTART:20210328T010000
END:DAYLIGHT
BEGIN:STANDARD
TZOFFSETFROM:+0100
TZOFFSETTO:+0000
TZNAME:GMT
DTSTART:20211031T010000
END:STANDARD
END:VTIMEZONE
BEGIN:VEVENT
DTSTART;TZID=Europe/London:20210216T103000
DTEND;TZID=Europe/London:20210216T103000
DTSTAMP:20260423T092137
CREATED:20201020T201017Z
LAST-MODIFIED:20201022T080359Z
UID:3854-1613471400-1613471400@manxfootpaths.org
SUMMARY:St John's Station Road Car Park next to St John's School 
DESCRIPTION: The walk includes the option of returning by bus from Peel (bus pass or money needed) or walking back along the Heritage Trail
URL:https://manxfootpaths.org/event/st-johns-station-road-car-park-next-to-st-johns-school-5/
LOCATION:SC278816
END:VEVENT
END:VCALENDAR