BEGIN:VCALENDAR
VERSION:2.0
PRODID:-//Manx Footpaths Conservation Group - ECPv6.2.9//NONSGML v1.0//EN
CALSCALE:GREGORIAN
METHOD:PUBLISH
X-ORIGINAL-URL:https://manxfootpaths.org
X-WR-CALDESC:Events for Manx Footpaths Conservation Group
REFRESH-INTERVAL;VALUE=DURATION:PT1H
X-Robots-Tag:noindex
X-PUBLISHED-TTL:PT1H
BEGIN:VTIMEZONE
TZID:Europe/London
BEGIN:DAYLIGHT
TZOFFSETFROM:+0000
TZOFFSETTO:+0100
TZNAME:BST
DTSTART:20210328T010000
END:DAYLIGHT
BEGIN:STANDARD
TZOFFSETFROM:+0100
TZOFFSETTO:+0000
TZNAME:GMT
DTSTART:20211031T010000
END:STANDARD
END:VTIMEZONE
BEGIN:VEVENT
DTSTART;TZID=Europe/London:20210830T091500
DTEND;TZID=Europe/London:20210830T091500
DTSTAMP:20260425T152754
CREATED:20210606T080638Z
LAST-MODIFIED:20210701T065355Z
UID:5051-1630314900-1630314900@manxfootpaths.org
SUMMARY:Hills of Mann - day 4 - bus stop at Manx Arms\, Onchan
DESCRIPTION:The ‘Hills of Mann’ series of walks will include a significant number of the Top 10 peaks on the Island including ‘marilyns’ and a mountain and will progress from moderate to strenuous over the 4 days. \nThis walk will be approx. 17-18 miles \nPlease be prepared for a full days walking – wear/bring suitable clothing and sufficient food/drink for the duration of the walk.
URL:https://manxfootpaths.org/event/hills-of-mann-4/
LOCATION:SC398782
END:VEVENT
END:VCALENDAR