BEGIN:VCALENDAR
VERSION:2.0
PRODID:-//Manx Footpaths Conservation Group - ECPv6.2.9//NONSGML v1.0//EN
CALSCALE:GREGORIAN
METHOD:PUBLISH
X-WR-CALNAME:Manx Footpaths Conservation Group
X-ORIGINAL-URL:https://manxfootpaths.org
X-WR-CALDESC:Events for Manx Footpaths Conservation Group
REFRESH-INTERVAL;VALUE=DURATION:PT1H
X-Robots-Tag:noindex
X-PUBLISHED-TTL:PT1H
BEGIN:VTIMEZONE
TZID:Europe/London
BEGIN:DAYLIGHT
TZOFFSETFROM:+0000
TZOFFSETTO:+0100
TZNAME:BST
DTSTART:20230326T010000
END:DAYLIGHT
BEGIN:STANDARD
TZOFFSETFROM:+0100
TZOFFSETTO:+0000
TZNAME:GMT
DTSTART:20231029T010000
END:STANDARD
END:VTIMEZONE
BEGIN:VEVENT
DTSTART;TZID=Europe/London:20230705T190000
DTEND;TZID=Europe/London:20230705T190000
DTSTAMP:20260419T140602
CREATED:20230424T115834Z
LAST-MODIFIED:20230424T115834Z
UID:8307-1688583600-1688583600@manxfootpaths.org
SUMMARY:Groudle Glen lower car park
DESCRIPTION: Tynwald Day – bank holiday
URL:https://manxfootpaths.org/event/groudle-glen-lower-car-park-11/
LOCATION:SC419784
END:VEVENT
END:VCALENDAR