BEGIN:VCALENDAR
VERSION:2.0
PRODID:-//Manx Footpaths Conservation Group - ECPv6.2.9//NONSGML v1.0//EN
CALSCALE:GREGORIAN
METHOD:PUBLISH
X-ORIGINAL-URL:https://manxfootpaths.org
X-WR-CALDESC:Events for Manx Footpaths Conservation Group
REFRESH-INTERVAL;VALUE=DURATION:PT1H
X-Robots-Tag:noindex
X-PUBLISHED-TTL:PT1H
BEGIN:VTIMEZONE
TZID:Europe/London
BEGIN:DAYLIGHT
TZOFFSETFROM:+0000
TZOFFSETTO:+0100
TZNAME:BST
DTSTART:20230326T010000
END:DAYLIGHT
BEGIN:STANDARD
TZOFFSETFROM:+0100
TZOFFSETTO:+0000
TZNAME:GMT
DTSTART:20231029T010000
END:STANDARD
END:VTIMEZONE
BEGIN:VEVENT
DTSTART;TZID=Europe/London:20230722T103000
DTEND;TZID=Europe/London:20230722T103000
DTSTAMP:20260423T100744
CREATED:20230424T115954Z
LAST-MODIFIED:20230630T075220Z
UID:8317-1690021800-1690021800@manxfootpaths.org
SUMMARY:Millenium Oakwood car park
DESCRIPTION:w3w: onion.windswept.thuds \nThe car park is off Ballafletcher Road. Turn off at the old vehicle testing centre and follow the road round past the Greenlight TV building. The car park is just past on your right.
URL:https://manxfootpaths.org/event/tba-53/
LOCATION:SC369778
END:VEVENT
END:VCALENDAR