BEGIN:VCALENDAR
VERSION:2.0
PRODID:-//Manx Footpaths Conservation Group - ECPv6.2.9//NONSGML v1.0//EN
CALSCALE:GREGORIAN
METHOD:PUBLISH
X-ORIGINAL-URL:https://manxfootpaths.org
X-WR-CALDESC:Events for Manx Footpaths Conservation Group
REFRESH-INTERVAL;VALUE=DURATION:PT1H
X-Robots-Tag:noindex
X-PUBLISHED-TTL:PT1H
BEGIN:VTIMEZONE
TZID:Europe/London
BEGIN:DAYLIGHT
TZOFFSETFROM:+0000
TZOFFSETTO:+0100
TZNAME:BST
DTSTART:20240331T010000
END:DAYLIGHT
BEGIN:STANDARD
TZOFFSETFROM:+0100
TZOFFSETTO:+0000
TZNAME:GMT
DTSTART:20241027T010000
END:STANDARD
END:VTIMEZONE
BEGIN:VEVENT
DTSTART;TZID=Europe/London:20240324T133000
DTEND;TZID=Europe/London:20240324T133000
DTSTAMP:20260420T131146
CREATED:20231019T141023Z
LAST-MODIFIED:20231105T100433Z
UID:9015-1711287000-1711287000@manxfootpaths.org
SUMMARY:Sulby Claddagh (bridge end) car park
DESCRIPTION:w3w: thirsty.lark.selling
URL:https://manxfootpaths.org/event/sulby-claddagh-bridge-end-car-park-7/
LOCATION:SC385940
END:VEVENT
END:VCALENDAR