BEGIN:VCALENDAR
VERSION:2.0
PRODID:-//Manx Footpaths Conservation Group - ECPv6.2.9//NONSGML v1.0//EN
CALSCALE:GREGORIAN
METHOD:PUBLISH
X-ORIGINAL-URL:https://manxfootpaths.org
X-WR-CALDESC:Events for Manx Footpaths Conservation Group
REFRESH-INTERVAL;VALUE=DURATION:PT1H
X-Robots-Tag:noindex
X-PUBLISHED-TTL:PT1H
BEGIN:VTIMEZONE
TZID:Europe/London
BEGIN:DAYLIGHT
TZOFFSETFROM:+0000
TZOFFSETTO:+0100
TZNAME:BST
DTSTART:20250330T010000
END:DAYLIGHT
BEGIN:STANDARD
TZOFFSETFROM:+0100
TZOFFSETTO:+0000
TZNAME:GMT
DTSTART:20251026T010000
END:STANDARD
END:VTIMEZONE
BEGIN:VEVENT
DTSTART;TZID=Europe/London:20250408T103000
DTEND;TZID=Europe/London:20250408T103000
DTSTAMP:20260422T115449
CREATED:20250402T150039Z
LAST-MODIFIED:20250402T150256Z
UID:11577-1744108200-1744108200@manxfootpaths.org
SUMMARY:POP-UP WALK - Mountain Box Car Park\, Mountain Road
DESCRIPTION:w3w: hitters.obstacle.paleness on the Mountain Road\, (approx. mid way between The Bungalow and the Gooseneck).\n\nAs the Mountain Road from Creg ny Baa to The Bungalow is closed due to roadworks\, those approaching from the Douglas direction will need to come via Ramsey and those coming from the West will need to come via Sulby Valley.  We look forward to seeing you.
URL:https://manxfootpaths.org/event/pop-up-walk-mountain-box-car-park-mountain-road/
LOCATION:SC410897
END:VEVENT
END:VCALENDAR