BEGIN:VCALENDAR
VERSION:2.0
PRODID:-//Manx Footpaths Conservation Group - ECPv6.2.9//NONSGML v1.0//EN
CALSCALE:GREGORIAN
METHOD:PUBLISH
X-ORIGINAL-URL:https://manxfootpaths.org
X-WR-CALDESC:Events for Manx Footpaths Conservation Group
REFRESH-INTERVAL;VALUE=DURATION:PT1H
X-Robots-Tag:noindex
X-PUBLISHED-TTL:PT1H
BEGIN:VTIMEZONE
TZID:Europe/London
BEGIN:DAYLIGHT
TZOFFSETFROM:+0000
TZOFFSETTO:+0100
TZNAME:BST
DTSTART:20250330T010000
END:DAYLIGHT
BEGIN:STANDARD
TZOFFSETFROM:+0100
TZOFFSETTO:+0000
TZNAME:GMT
DTSTART:20251026T010000
END:STANDARD
END:VTIMEZONE
BEGIN:VEVENT
DTSTART;TZID=Europe/London:20251009T103000
DTEND;TZID=Europe/London:20251009T103000
DTSTAMP:20260425T165647
CREATED:20250415T164620Z
LAST-MODIFIED:20250416T192801Z
UID:11800-1760005800-1760005800@manxfootpaths.org
SUMMARY:Kallow Point Car Park\, Port St Mary
DESCRIPTION:w3w: earthly.erupted.affluent\nMedium walk
URL:https://manxfootpaths.org/event/kallow-point-car-park-port-st-mary-22/
LOCATION:SC208670
END:VEVENT
END:VCALENDAR