BEGIN:VCALENDAR
VERSION:2.0
PRODID:-//Manx Footpaths Conservation Group - ECPv6.2.9//NONSGML v1.0//EN
CALSCALE:GREGORIAN
METHOD:PUBLISH
X-WR-CALNAME:Manx Footpaths Conservation Group
X-ORIGINAL-URL:https://manxfootpaths.org
X-WR-CALDESC:Events for Manx Footpaths Conservation Group
REFRESH-INTERVAL;VALUE=DURATION:PT1H
X-Robots-Tag:noindex
X-PUBLISHED-TTL:PT1H
BEGIN:VTIMEZONE
TZID:Europe/London
BEGIN:DAYLIGHT
TZOFFSETFROM:+0000
TZOFFSETTO:+0100
TZNAME:BST
DTSTART:20250330T010000
END:DAYLIGHT
BEGIN:STANDARD
TZOFFSETFROM:+0100
TZOFFSETTO:+0000
TZNAME:GMT
DTSTART:20251026T010000
END:STANDARD
END:VTIMEZONE
BEGIN:VEVENT
DTSTART;TZID=Europe/London:20251104T101500
DTEND;TZID=Europe/London:20251104T101500
DTSTAMP:20260425T122216
CREATED:20251006T200034Z
LAST-MODIFIED:20251006T200034Z
UID:12467-1762251300-1762251300@manxfootpaths.org
SUMMARY:Silverdale Glen Upper Car Park
DESCRIPTION:w3w: instantly.installing.trademarks\nPLEASE NOTE: Early start\, bring cash/pass for 10.36 Bus to Lower Foxdale
URL:https://manxfootpaths.org/event/silverdale-glen-upper-car-park/
LOCATION:SC274709
END:VEVENT
END:VCALENDAR