BEGIN:VCALENDAR
VERSION:2.0
PRODID:-//Manx Footpaths Conservation Group - ECPv6.2.9//NONSGML v1.0//EN
CALSCALE:GREGORIAN
METHOD:PUBLISH
X-ORIGINAL-URL:https://manxfootpaths.org
X-WR-CALDESC:Events for Manx Footpaths Conservation Group
REFRESH-INTERVAL;VALUE=DURATION:PT1H
X-Robots-Tag:noindex
X-PUBLISHED-TTL:PT1H
BEGIN:VTIMEZONE
TZID:Europe/London
BEGIN:DAYLIGHT
TZOFFSETFROM:+0000
TZOFFSETTO:+0100
TZNAME:BST
DTSTART:20250330T010000
END:DAYLIGHT
BEGIN:STANDARD
TZOFFSETFROM:+0100
TZOFFSETTO:+0000
TZNAME:GMT
DTSTART:20251026T010000
END:STANDARD
END:VTIMEZONE
BEGIN:VEVENT
DTSTART;TZID=Europe/London:20251112T190000
DTEND;TZID=Europe/London:20251112T190000
DTSTAMP:20260425T182603
CREATED:20251006T201711Z
LAST-MODIFIED:20251107T125326Z
UID:12569-1762974000-1762974000@manxfootpaths.org
SUMMARY:Winter Talk: POSTPONED UNTIL 26th NOVEMBER
DESCRIPTION:Due to unforeseen circumstances the talk has been postponed until 26th November \n 
URL:https://manxfootpaths.org/event/winter-talk-the-life-times-of-cregneash-its-people/
LOCATION:SC249836
END:VEVENT
END:VCALENDAR