BEGIN:VCALENDAR
VERSION:2.0
PRODID:-//Manx Footpaths Conservation Group - ECPv6.2.9//NONSGML v1.0//EN
CALSCALE:GREGORIAN
METHOD:PUBLISH
X-ORIGINAL-URL:https://manxfootpaths.org
X-WR-CALDESC:Events for Manx Footpaths Conservation Group
REFRESH-INTERVAL;VALUE=DURATION:PT1H
X-Robots-Tag:noindex
X-PUBLISHED-TTL:PT1H
BEGIN:VTIMEZONE
TZID:Europe/London
BEGIN:DAYLIGHT
TZOFFSETFROM:+0000
TZOFFSETTO:+0100
TZNAME:BST
DTSTART:20250330T010000
END:DAYLIGHT
BEGIN:STANDARD
TZOFFSETFROM:+0100
TZOFFSETTO:+0000
TZNAME:GMT
DTSTART:20251026T010000
END:STANDARD
END:VTIMEZONE
BEGIN:VEVENT
DTSTART;TZID=Europe/London:20251115T101500
DTEND;TZID=Europe/London:20251115T101500
DTSTAMP:20260425T165652
CREATED:20251006T201205Z
LAST-MODIFIED:20251006T201205Z
UID:12540-1763201700-1763201700@manxfootpaths.org
SUMMARY:Mines Road\, Laxey
DESCRIPTION:w3w: preoccupied.pushes.encoder\nPLEASE NOTE: Early start\, bring cash/pass for bus
URL:https://manxfootpaths.org/event/mines-road-laxey-12/
LOCATION:SC432847
END:VEVENT
END:VCALENDAR