BEGIN:VCALENDAR
VERSION:2.0
PRODID:-//Manx Footpaths Conservation Group - ECPv6.2.9//NONSGML v1.0//EN
CALSCALE:GREGORIAN
METHOD:PUBLISH
X-WR-CALNAME:Manx Footpaths Conservation Group
X-ORIGINAL-URL:https://manxfootpaths.org
X-WR-CALDESC:Events for Manx Footpaths Conservation Group
REFRESH-INTERVAL;VALUE=DURATION:PT1H
X-Robots-Tag:noindex
X-PUBLISHED-TTL:PT1H
BEGIN:VTIMEZONE
TZID:Europe/London
BEGIN:DAYLIGHT
TZOFFSETFROM:+0000
TZOFFSETTO:+0100
TZNAME:BST
DTSTART:20250330T010000
END:DAYLIGHT
BEGIN:STANDARD
TZOFFSETFROM:+0100
TZOFFSETTO:+0000
TZNAME:GMT
DTSTART:20251026T010000
END:STANDARD
END:VTIMEZONE
BEGIN:VEVENT
DTSTART;TZID=Europe/London:20251206T103000
DTEND;TZID=Europe/London:20251206T103000
DTSTAMP:20260419T140601
CREATED:20251006T201207Z
LAST-MODIFIED:20251027T155347Z
UID:12543-1765017000-1765017000@manxfootpaths.org
SUMMARY:Sulby Claddaghs (Bridge end) car park
DESCRIPTION:w3w: array.remotely.going
URL:https://manxfootpaths.org/event/sulby-claddaghs/
LOCATION:SC385939
END:VEVENT
END:VCALENDAR