BEGIN:VCALENDAR
VERSION:2.0
PRODID:-//Manx Footpaths Conservation Group - ECPv6.2.9//NONSGML v1.0//EN
CALSCALE:GREGORIAN
METHOD:PUBLISH
X-WR-CALNAME:Manx Footpaths Conservation Group
X-ORIGINAL-URL:https://manxfootpaths.org
X-WR-CALDESC:Events for Manx Footpaths Conservation Group
REFRESH-INTERVAL;VALUE=DURATION:PT1H
X-Robots-Tag:noindex
X-PUBLISHED-TTL:PT1H
BEGIN:VTIMEZONE
TZID:Europe/London
BEGIN:DAYLIGHT
TZOFFSETFROM:+0000
TZOFFSETTO:+0100
TZNAME:BST
DTSTART:20210328T010000
END:DAYLIGHT
BEGIN:STANDARD
TZOFFSETFROM:+0100
TZOFFSETTO:+0000
TZNAME:GMT
DTSTART:20211031T010000
END:STANDARD
END:VTIMEZONE
BEGIN:VEVENT
DTSTART;TZID=Europe/London:20210202T103000
DTEND;TZID=Europe/London:20210202T103000
DTSTAMP:20260421T143243
CREATED:20201020T201013Z
LAST-MODIFIED:20201022T080238Z
UID:3847-1612261800-1612261800@manxfootpaths.org
SUMMARY:South Barrule Plantation Car Park
DESCRIPTION:
URL:https://manxfootpaths.org/event/south-barrule-plantation-car-park/
LOCATION:SC275767
END:VEVENT
BEGIN:VEVENT
DTSTART;TZID=Europe/London:20210203T193000
DTEND;TZID=Europe/London:20210203T193000
DTSTAMP:20260421T143243
CREATED:20201020T201014Z
LAST-MODIFIED:20201022T080254Z
UID:3848-1612380600-1612380600@manxfootpaths.org
SUMMARY:Mylchreest Court\, Douglas Road\, Peel\, IM5 1LD
DESCRIPTION:An illustrated talk on “The Ayres Gravel Pits” by Manx Bird Life Chairman Neil Morris\, followed by tea & biccies. Parking at QE11 school and Football Club
URL:https://manxfootpaths.org/event/mylchreest-court-douglas-road-peel-im5-1ld-3/
LOCATION:SC249835
END:VEVENT
BEGIN:VEVENT
DTSTART;TZID=Europe/London:20210204T103000
DTEND;TZID=Europe/London:20210204T103000
DTSTAMP:20260421T143243
CREATED:20201020T201014Z
LAST-MODIFIED:20201022T080311Z
UID:3849-1612434600-1612434600@manxfootpaths.org
SUMMARY:Colby Bridge (Station Road)
DESCRIPTION:
URL:https://manxfootpaths.org/event/colby-bridge-station-road-3/
LOCATION:SC232700
END:VEVENT
BEGIN:VEVENT
DTSTART;TZID=Europe/London:20210206T103000
DTEND;TZID=Europe/London:20210206T103000
DTSTAMP:20260421T143243
CREATED:20201020T201016Z
LAST-MODIFIED:20201022T080318Z
UID:3850-1612607400-1612607400@manxfootpaths.org
SUMMARY:Conrhenny Plantation Car Park
DESCRIPTION:
URL:https://manxfootpaths.org/event/conrhenny-plantation-car-park/
LOCATION:SC407828
END:VEVENT
BEGIN:VEVENT
DTSTART;TZID=Europe/London:20210207T133000
DTEND;TZID=Europe/London:20210207T133000
DTSTAMP:20260421T143243
CREATED:20201020T201016Z
LAST-MODIFIED:20201022T080327Z
UID:3851-1612704600-1612704600@manxfootpaths.org
SUMMARY:Snuff the Wind
DESCRIPTION:
URL:https://manxfootpaths.org/event/snuff-the-wind/
LOCATION:SC261781
END:VEVENT
BEGIN:VEVENT
DTSTART;TZID=Europe/London:20210211T103000
DTEND;TZID=Europe/London:20210211T103000
DTSTAMP:20260421T143243
CREATED:20201020T201016Z
LAST-MODIFIED:20201022T080343Z
UID:3852-1613039400-1613039400@manxfootpaths.org
SUMMARY:St John's Station Road Car Park next to St John's School
DESCRIPTION:
URL:https://manxfootpaths.org/event/st-johns-station-road-car-park-next-to-st-johns-school-2/
LOCATION:SC278816
END:VEVENT
BEGIN:VEVENT
DTSTART;TZID=Europe/London:20210213T103000
DTEND;TZID=Europe/London:20210213T103000
DTSTAMP:20260421T143243
CREATED:20210207T110626Z
LAST-MODIFIED:20210211T172127Z
UID:4202-1613212200-1613212200@manxfootpaths.org
SUMMARY:South Barrule plantation car park
DESCRIPTION:**PLEASE NOTE – Due to the forecast of snow for the duration of this walk causing potentially unsafe driving and walking conditions  – The walk has been POSTPONED till the following Saturday 20/02/2021 – PLEASE DO NOT TURN UP TO THE START POINT 
URL:https://manxfootpaths.org/event/south-barrule-plantation-car-park-3/
LOCATION:SC275767
END:VEVENT
BEGIN:VEVENT
DTSTART;TZID=Europe/London:20210214T133000
DTEND;TZID=Europe/London:20210214T133000
DTSTAMP:20260421T143243
CREATED:20201020T201017Z
LAST-MODIFIED:20201022T065807Z
UID:3853-1613309400-1613309400@manxfootpaths.org
SUMMARY:Bradda Glen Car Park\, Port Erin
DESCRIPTION:
URL:https://manxfootpaths.org/event/bradda-glen-car-park-port-erin-3/
LOCATION:SC193697
END:VEVENT
BEGIN:VEVENT
DTSTART;TZID=Europe/London:20210216T103000
DTEND;TZID=Europe/London:20210216T103000
DTSTAMP:20260421T143243
CREATED:20201020T201017Z
LAST-MODIFIED:20201022T080359Z
UID:3854-1613471400-1613471400@manxfootpaths.org
SUMMARY:St John's Station Road Car Park next to St John's School 
DESCRIPTION: The walk includes the option of returning by bus from Peel (bus pass or money needed) or walking back along the Heritage Trail
URL:https://manxfootpaths.org/event/st-johns-station-road-car-park-next-to-st-johns-school-5/
LOCATION:SC278816
END:VEVENT
BEGIN:VEVENT
DTSTART;TZID=Europe/London:20210218T103000
DTEND;TZID=Europe/London:20210218T103000
DTSTAMP:20260421T143243
CREATED:20201020T201018Z
LAST-MODIFIED:20201022T065809Z
UID:3855-1613644200-1613644200@manxfootpaths.org
SUMMARY:Mooragh Park Car Park\, Ramsey
DESCRIPTION:
URL:https://manxfootpaths.org/event/mooragh-park-car-park-ramsey-3/
LOCATION:SC451955
END:VEVENT
BEGIN:VEVENT
DTSTART;TZID=Europe/London:20210220T103000
DTEND;TZID=Europe/London:20210220T160000
DTSTAMP:20260421T143243
CREATED:20210211T171606Z
LAST-MODIFIED:20210211T171606Z
UID:4207-1613817000-1613836800@manxfootpaths.org
SUMMARY:South Barrule Plantation Car Park
DESCRIPTION:
URL:https://manxfootpaths.org/event/south-barrule-plantation-car-park-4/
LOCATION:SC275767
END:VEVENT
BEGIN:VEVENT
DTSTART;TZID=Europe/London:20210221T133000
DTEND;TZID=Europe/London:20210221T133000
DTSTAMP:20260421T143243
CREATED:20201020T201019Z
LAST-MODIFIED:20201022T080429Z
UID:3856-1613914200-1613914200@manxfootpaths.org
SUMMARY:Cregneash Car Park
DESCRIPTION:
URL:https://manxfootpaths.org/event/cregneash-car-park-2/
LOCATION:SC191674
END:VEVENT
BEGIN:VEVENT
DTSTART;TZID=Europe/London:20210225T103000
DTEND;TZID=Europe/London:20210225T103000
DTSTAMP:20260421T143243
CREATED:20201020T201019Z
LAST-MODIFIED:20201022T065809Z
UID:3857-1614249000-1614249000@manxfootpaths.org
SUMMARY:Bradda Glen Car Park\, Port Erin
DESCRIPTION:
URL:https://manxfootpaths.org/event/bradda-glen-car-park-port-erin-4/
LOCATION:SC193697
END:VEVENT
BEGIN:VEVENT
DTSTART;TZID=Europe/London:20210227T103000
DTEND;TZID=Europe/London:20210227T103000
DTSTAMP:20260421T143243
CREATED:20210220T160554Z
LAST-MODIFIED:20210220T160554Z
UID:4223-1614421800-1614421800@manxfootpaths.org
SUMMARY:Curragh Wildlife Park
DESCRIPTION:
URL:https://manxfootpaths.org/event/curragh-wildlife-park/
LOCATION:SC367941
END:VEVENT
BEGIN:VEVENT
DTSTART;TZID=Europe/London:20210228T133000
DTEND;TZID=Europe/London:20210228T133000
DTSTAMP:20260421T143243
CREATED:20201020T201020Z
LAST-MODIFIED:20201022T065809Z
UID:3858-1614519000-1614519000@manxfootpaths.org
SUMMARY:Laxey Glen Gardens Car Park
DESCRIPTION:
URL:https://manxfootpaths.org/event/laxey-glen-gardens-car-park/
LOCATION:SC432844
END:VEVENT
END:VCALENDAR